BEGIN:VCALENDAR
VERSION:2.0
PRODID:-//MTV Goslar - Abteilung Billard - ECPv6.15.20//NONSGML v1.0//EN
CALSCALE:GREGORIAN
METHOD:PUBLISH
X-WR-CALNAME:MTV Goslar - Abteilung Billard
X-ORIGINAL-URL:https://billard-mtv-goslar.de
X-WR-CALDESC:Veranstaltungen für MTV Goslar - Abteilung Billard
REFRESH-INTERVAL;VALUE=DURATION:PT1H
X-Robots-Tag:noindex
X-PUBLISHED-TTL:PT1H
BEGIN:VTIMEZONE
TZID:UTC
BEGIN:STANDARD
TZOFFSETFROM:+0000
TZOFFSETTO:+0000
TZNAME:UTC
DTSTART:20250101T000000
END:STANDARD
END:VTIMEZONE
BEGIN:VEVENT
DTSTART;TZID=UTC:20260415T140000
DTEND;TZID=UTC:20260415T170000
DTSTAMP:20260421T123132
CREATED:20260223T103723Z
LAST-MODIFIED:20260223T103723Z
UID:1395-1776261600-1776272400@billard-mtv-goslar.de
SUMMARY:Lothar´s Billard Gruppe
DESCRIPTION:Jeden 3. Mittwoch im Monat ist in der Zeit von 14:00 bis ca. 17:00 Uhr unsere Spielstätte durch Gäste reserviert.
URL:https://billard-mtv-goslar.de/event/lothars-billard-gruppe-7
CATEGORIES:Veranstaltung
END:VEVENT
END:VCALENDAR